BEGIN:VCALENDAR
VERSION:2.0
PRODID:-//AR State Personnel Development Grant - ECPv6.15.20//NONSGML v1.0//EN
CALSCALE:GREGORIAN
METHOD:PUBLISH
X-WR-CALNAME:AR State Personnel Development Grant
X-ORIGINAL-URL:https://www.arspdg.org
X-WR-CALDESC:Events for AR State Personnel Development Grant
REFRESH-INTERVAL;VALUE=DURATION:PT1H
X-Robots-Tag:noindex
X-PUBLISHED-TTL:PT1H
BEGIN:VTIMEZONE
TZID:America/Chicago
BEGIN:DAYLIGHT
TZOFFSETFROM:-0600
TZOFFSETTO:-0500
TZNAME:CDT
DTSTART:20210314T080000
END:DAYLIGHT
BEGIN:STANDARD
TZOFFSETFROM:-0500
TZOFFSETTO:-0600
TZNAME:CST
DTSTART:20211107T070000
END:STANDARD
BEGIN:DAYLIGHT
TZOFFSETFROM:-0600
TZOFFSETTO:-0500
TZNAME:CDT
DTSTART:20220313T080000
END:DAYLIGHT
BEGIN:STANDARD
TZOFFSETFROM:-0500
TZOFFSETTO:-0600
TZNAME:CST
DTSTART:20221106T070000
END:STANDARD
BEGIN:DAYLIGHT
TZOFFSETFROM:-0600
TZOFFSETTO:-0500
TZNAME:CDT
DTSTART:20230312T080000
END:DAYLIGHT
BEGIN:STANDARD
TZOFFSETFROM:-0500
TZOFFSETTO:-0600
TZNAME:CST
DTSTART:20231105T070000
END:STANDARD
END:VTIMEZONE
BEGIN:VEVENT
DTSTART;TZID=America/Chicago:20220620T033000
DTEND;TZID=America/Chicago:20220620T103000
DTSTAMP:20260423T101440
CREATED:20211026T191318Z
LAST-MODIFIED:20211026T191318Z
UID:860-1655695800-1655721000@www.arspdg.org
SUMMARY:Creating Quality Classroom Assessments (Virtual)
DESCRIPTION:Creating Quality Classroom Assessments with Dr. Phil Warrick (Marzano Associate).  This session will engage teachers in the development and/or revision of classroom assessments.  The workshop will focus heavily on formative assessment practices including the use of common\, formative assessments in the PLC processes.  The workshop will begin with some direct instruction focused on effective\, classroom assessment practices.  Participants will then engage in a facilitated work session in which they will develop formative assessments for use in their own practice.  PLC teams could also develop common\, formative assessments for use in their collaborative focus on learning. \nZoom Link: https://us02web.zoom.us/j/85006880755 \nCredits Available: (6) Hours \nAudiences: K-12\, Administrators\, Instructional Facilitators \nRegister Here \n 
URL:https://www.arspdg.org/event/creating-quality-classroom-assessments-virtual/
END:VEVENT
END:VCALENDAR