BEGIN:VCALENDAR
VERSION:2.0
PRODID:-//AR State Personnel Development Grant - ECPv6.15.20//NONSGML v1.0//EN
CALSCALE:GREGORIAN
METHOD:PUBLISH
X-ORIGINAL-URL:https://www.arspdg.org
X-WR-CALDESC:Events for AR State Personnel Development Grant
REFRESH-INTERVAL;VALUE=DURATION:PT1H
X-Robots-Tag:noindex
X-PUBLISHED-TTL:PT1H
BEGIN:VTIMEZONE
TZID:America/Chicago
BEGIN:DAYLIGHT
TZOFFSETFROM:-0600
TZOFFSETTO:-0500
TZNAME:CDT
DTSTART:20210314T080000
END:DAYLIGHT
BEGIN:STANDARD
TZOFFSETFROM:-0500
TZOFFSETTO:-0600
TZNAME:CST
DTSTART:20211107T070000
END:STANDARD
BEGIN:DAYLIGHT
TZOFFSETFROM:-0600
TZOFFSETTO:-0500
TZNAME:CDT
DTSTART:20220313T080000
END:DAYLIGHT
BEGIN:STANDARD
TZOFFSETFROM:-0500
TZOFFSETTO:-0600
TZNAME:CST
DTSTART:20221106T070000
END:STANDARD
BEGIN:DAYLIGHT
TZOFFSETFROM:-0600
TZOFFSETTO:-0500
TZNAME:CDT
DTSTART:20230312T080000
END:DAYLIGHT
BEGIN:STANDARD
TZOFFSETFROM:-0500
TZOFFSETTO:-0600
TZNAME:CST
DTSTART:20231105T070000
END:STANDARD
END:VTIMEZONE
BEGIN:VEVENT
DTSTART;TZID=America/Chicago:20220209T030000
DTEND;TZID=America/Chicago:20220209T060000
DTSTAMP:20260423T162350
CREATED:20211026T191104Z
LAST-MODIFIED:20211026T191104Z
UID:859-1644375600-1644386400@www.arspdg.org
SUMMARY:Celebrations in a Professional Learning Community (Virtual)
DESCRIPTION:Dr. Kanold is an award-winning educator\, author and consultant.  He is the former superintendent of a model PLC district.  He is committed to equity and excellence for students\, faculty\, and administrators.  His focuses on creating a positive\, thriving schools culture focused on meaningful\, collaborative relationships.  During this 3-hour webinar session\, Dr. Kanold will focus on the importance of celebrating both small and large successes on the PLC journey.  Spending time celebrating successes influences the culture and climate of the school as one journey’s towards improvement. \nZoom Link: https://us02web.zoom.us/j/88009402259 \nCredits Available: (3) Hours \nAudiences: Administrators \nRegister Here
URL:https://www.arspdg.org/event/celebrations-in-a-professional-learning-community-virtual/
END:VEVENT
END:VCALENDAR